BEGIN:VCALENDAR
VERSION:2.0
PRODID:-//Ovu Foundation - ECPv6.15.20//NONSGML v1.0//EN
CALSCALE:GREGORIAN
METHOD:PUBLISH
X-ORIGINAL-URL:https://ovufoundation.org
X-WR-CALDESC:Events for Ovu Foundation
REFRESH-INTERVAL;VALUE=DURATION:PT1H
X-Robots-Tag:noindex
X-PUBLISHED-TTL:PT1H
BEGIN:VTIMEZONE
TZID:Europe/Paris
BEGIN:DAYLIGHT
TZOFFSETFROM:+0100
TZOFFSETTO:+0200
TZNAME:CEST
DTSTART:20220327T010000
END:DAYLIGHT
BEGIN:STANDARD
TZOFFSETFROM:+0200
TZOFFSETTO:+0100
TZNAME:CET
DTSTART:20221030T010000
END:STANDARD
BEGIN:DAYLIGHT
TZOFFSETFROM:+0100
TZOFFSETTO:+0200
TZNAME:CEST
DTSTART:20230326T010000
END:DAYLIGHT
BEGIN:STANDARD
TZOFFSETFROM:+0200
TZOFFSETTO:+0100
TZNAME:CET
DTSTART:20231029T010000
END:STANDARD
BEGIN:DAYLIGHT
TZOFFSETFROM:+0100
TZOFFSETTO:+0200
TZNAME:CEST
DTSTART:20240331T010000
END:DAYLIGHT
BEGIN:STANDARD
TZOFFSETFROM:+0200
TZOFFSETTO:+0100
TZNAME:CET
DTSTART:20241027T010000
END:STANDARD
END:VTIMEZONE
BEGIN:VTIMEZONE
TZID:UTC
BEGIN:STANDARD
TZOFFSETFROM:+0000
TZOFFSETTO:+0000
TZNAME:UTC
DTSTART:20210101T000000
END:STANDARD
END:VTIMEZONE
BEGIN:VEVENT
DTSTART;TZID=Europe/Paris:20230617T080000
DTEND;TZID=Europe/Paris:20230617T170000
DTSTAMP:20260423T182550
CREATED:20230601T114025Z
LAST-MODIFIED:20230601T114025Z
UID:18627-1686988800-1687021200@ovufoundation.org
SUMMARY:Annual Book Reading Competition
DESCRIPTION:
URL:https://ovufoundation.org/event/annual-book-reading-competition/
LOCATION:OVU TOWN HALL\, OVU INLAND\, (i) No 5\, Edevwie Street\, Ovu Inland.\, Delta\, Nigeria
CATEGORIES:Education - Book Reading
END:VEVENT
BEGIN:VEVENT
DTSTART;TZID=UTC:20220408T100000
DTEND;TZID=UTC:20220408T100000
DTSTAMP:20260423T182550
CREATED:20200909T030220Z
LAST-MODIFIED:20210814T035735Z
UID:2054-1649412000-1649412000@ovufoundation.org
SUMMARY:Excitement From A Quote About Charity
DESCRIPTION:What’s the point of going out? We’re just going to wind up back here anyway. I’m going to the back seat of my car\, with the woman I love\, and I won’t be back for ten minutes! And now\, in the spirit of the season: start shopping. And for every dollar of Krusty merchandise you buy\, I will be nice to a sick kid. For legal purposes\, sick kids may include hookers with a cold. The Internet King? I wonder if he could provide faster nudity… Yes! I am a citizen! Now which way to the welfare office? I’m kidding\, I’m kidding. I work\, I work.
URL:https://ovufoundation.org/event/excitement-from-a-quote-about-charity/
LOCATION:Winchester Mystery House\, San Jose\, 95128\, United States
CATEGORIES:Education - Book Reading
ATTACH;FMTTYPE=image/jpeg:https://ovufoundation.org/wp-content/uploads/2020/09/give-3.jpg
END:VEVENT
END:VCALENDAR